BEGIN:VCALENDAR
PRODID:-//eluceo/ical//2.0/EN
VERSION:2.0
CALSCALE:GREGORIAN
BEGIN:VEVENT
UID:dc50928d19ef648426a7b99f789dc4c2
DTSTAMP:20260422T201141Z
SUMMARY:Veckomöte - anmäl här
DESCRIPTION:Website: http://www.hotellheden.se\nSpeaker(s): Föredrag: Ylva
  Carresjö Gästvärdar: Anette Wnter och Pär ZelanoVeckobrevskrivare: G
 öran Lindsten 
URL:https://goteborg-orgryte.rotaryklubb.org/en/agenda/show/215300
DTSTART;TZID=Europe/Zurich:20260113T121500
DTEND;TZID=Europe/Zurich:20260113T131500
LOCATION:Hotell Heden\, Sten Sturegatan 1\, 41139 Göteborg\, Sverige
CATEGORIES:Rotary
END:VEVENT
BEGIN:VTIMEZONE
TZID:Europe/Zurich
BEGIN:STANDARD
DTSTART:20260113T121500
TZNAME:CET
TZOFFSETTO:+0100
TZOFFSETFROM:+0100
END:STANDARD
END:VTIMEZONE
END:VCALENDAR
