BEGIN:VCALENDAR
PRODID:-//eluceo/ical//2.0/EN
VERSION:2.0
CALSCALE:GREGORIAN
BEGIN:VEVENT
UID:522900248e78bbea6e2cbe43e49e99dd
DTSTAMP:20260423T001131Z
SUMMARY:Hotel Heden Rotary Pub
DESCRIPTION:Website: https://maps.app.goo.gl/LmFqkcaQhgBRrXvz7?g_st=ipc\nSp
 eaker(s): Rotary Pub
URL:https://goteborg-orgryte.rotaryklubb.org/en/agenda/show/216353
DTSTART;TZID=Europe/Zurich:20260107T180000
DTEND;TZID=Europe/Zurich:20260107T230000
LOCATION:Hotel Heden
CATEGORIES:Rotary
END:VEVENT
BEGIN:VTIMEZONE
TZID:Europe/Zurich
BEGIN:STANDARD
DTSTART:20260107T180000
TZNAME:CET
TZOFFSETTO:+0100
TZOFFSETFROM:+0100
END:STANDARD
END:VTIMEZONE
END:VCALENDAR
